BEGIN:VCALENDAR
VERSION:2.0
PRODID:-//CERN//INDICO//EN
BEGIN:VEVENT
SUMMARY:AGH IT Future Day
DTSTART:20260512T070000Z
DTEND:20260512T143000Z
DTSTAMP:20260425T172000Z
UID:indico-event-2@indico.informatyka.agh.edu.pl
DESCRIPTION:Speakers: Ulana Gocman\n\nhttps://indico.informatyka.agh.edu.p
 l/event/2/
LOCATION:1.38\, 1.20\, 1.19 (Wydział Informatyki AGH)
URL:https://indico.informatyka.agh.edu.pl/event/2/
END:VEVENT
END:VCALENDAR
