BEGIN:VCALENDAR
VERSION:2.0
PRODID:-//CERN//INDICO//EN
BEGIN:VEVENT
SUMMARY:Konferencja preKER #2 - Technologie energetyki rozproszonej a patr
 iotyzm gospodarczy cz. I
DTSTART:20260506T080000Z
DTEND:20260506T130000Z
DTSTAMP:20260426T023800Z
UID:indico-event-1@indico.informatyka.agh.edu.pl
CONTACT:kongres-er@agh.edu.pl
DESCRIPTION:Technologie energetyki rozproszonej a patriotyzm gospodarczy c
 z. I \nKER_agora – debata #2: Jakie technologie energetyki rozproszone
 j mogą być polską specjalnością?\nZapraszamy na dwuczęściową konfe
 rencję „Technologie energetyki rozproszonej a patriotyzm gospodarczy”
 \, której celem jest analiza możliwości wspierania budowy potencjału k
 rajowego przemysłu w kontekście kształtującego się nowego rynku energ
 ii. Pierwsza część wydarzenia odbędzie się 6 maja w AGH w Krakowie\, 
 a druga – 27 maja.  Przycisk do rejestracji jest na dole strony po pra
 wej!\n\n\nKonferencja koncentruje się na roli nowoczesnych technologii en
 ergetycznych w budowaniu suwerenności oraz konkurencyjności gospodarczej
  Polski. Szczególna uwaga zostanie poświęcona zagadnieniu rozwoju krajo
 wych kompetencji technologicznych w obszarze energetyki rozproszonej oraz 
 ich wpływowi na wzmacnianie gospodarki\, zwiększanie bezpieczeństwa ene
 rgetycznego i tworzenie trwałych przewag konkurencyjnych. \n \n\n\nKluc
 zowym celem konferencji jest identyfikacja technologii o największym pote
 ncjale\, aby stać się polskimi specjalizacjami w obszarze energetyki roz
 proszonej. Proces ten zostanie oparty na podejściu foresightowym – uc
 zestnicy wskażą najbardziej obiecujące kierunki rozwoju\, które nastę
 pnie zostaną poddane pogłębionej analizie pod kątem wykonalności\, ko
 nkurencyjności oraz możliwości skalowania. \n \n\n\nRezultatem eksper
 ckiej debaty\, prowadzonej z udziałem publiczności\, będzie wyłonienie
  pięciu kluczowych obszarów technologicznych przeznaczonych do dalszych 
 prac. Druga część konferencji\, zaplanowana na 27 maja\, obejmie cykl 3
 0-minutowych paneli dyskusyjnych – każdy poświęcony jednej z wybranyc
 h technologii – z udziałem przedstawicieli branży\, instytucji finanso
 wych\, środowiska naukowego\, administracji publicznej oraz inwestorów\,
  w tym spółdzielni energetycznych i samorządów. \n \n\n\nWypracowane
  rekomendacje staną się punktem wyjścia do dalszej debaty podczas IV Ko
 ngresu Energetyki Rozproszonej\, który odbędzie się w dniach 4–5 list
 opada. W ramach ścieżki programowej „KER Technologie ER – polskie sp
 ecjalizacje” każda z wyłonionych technologii zostanie omówiona podcza
 s odrębnej\, godzinnej sesji. Finalne rekomendacje zostaną ujęte w ofic
 jalnych materiałach Kongresu i przekazane podmiotom odpowiedzialnym za ks
 ztałtowanie polityki rozwojowej Polski. \n\n\nhttps://indico.informatyka
 .agh.edu.pl/event/1/
IMAGE;VALUE=URI:https://indico.informatyka.agh.edu.pl/event/1/logo-2494675
 564.png
LOCATION:sala 1.20 (Wydział Informatyki AGH\, bud.D-17)
URL:https://indico.informatyka.agh.edu.pl/event/1/
END:VEVENT
END:VCALENDAR
